BEGIN:VCALENDAR
VERSION:2.0
PRODID:-//ChamberMaster//Event Calendar 2.0//EN
METHOD:PUBLISH
X-PUBLISHED-TTL:P3D
REFRESH-INTERVAL:P3D
CALSCALE:GREGORIAN
BEGIN:VEVENT
DTSTART:20150507T010000Z
DTEND:20150507T020000Z
X-MICROSOFT-CDO-ALLDAYEVENT:FALSE
SUMMARY:Re-Raphaelite Art History Lecture
DESCRIPTION:Sebastopol Regional Library\n7140 Bodega Avenue\, Sebastopol
X-ALT-DESC;FMTTYPE=text/html:Sebastopol Regional Library\n7140 Bodega Avenue\, Sebastopol
LOCATION:The art and artists of the most influential movement of 19th century Britain. Talk by Tim McGee
UID:e.3189.5042351
SEQUENCE:3
DTSTAMP:20260420T022437Z
URL:https://business.sebastopol.org/events/details/re-raphaelite-art-history-lecture-05-06-2015-5042351
END:VEVENT

END:VCALENDAR
