BEGIN:VCALENDAR
VERSION:2.0
PRODID:-//ChamberMaster//Event Calendar 2.0//EN
METHOD:PUBLISH
X-PUBLISHED-TTL:P3D
REFRESH-INTERVAL:P3D
CALSCALE:GREGORIAN
BEGIN:VEVENT
DTSTART:20150527T103000Z
DTEND:20150527T113000Z
X-MICROSOFT-CDO-ALLDAYEVENT:FALSE
SUMMARY:Read to a Dog
DESCRIPTION:Practice reading skills with a furry companion.  For ages 4 - 10 and caregivers.
X-ALT-DESC;FMTTYPE=text/html:Practice reading skills with a furry companion.  For ages 4 - 10 and caregivers.
LOCATION:Sebastopol Regional Library 7140 Bodega Avenue\, Sebastopol
UID:e.3189.5042334
SEQUENCE:3
DTSTAMP:20260420T040946Z
URL:https://business.sebastopol.org/events/details/read-to-a-dog-05-27-2015-5042334
END:VEVENT

END:VCALENDAR
