BEGIN:VCALENDAR
VERSION:2.0
PRODID:-//ChamberMaster//Event Calendar 2.0//EN
METHOD:PUBLISH
X-PUBLISHED-TTL:P3D
REFRESH-INTERVAL:P3D
CALSCALE:GREGORIAN
BEGIN:VEVENT
DTSTART:20150514T003000Z
DTEND:20150514T023000Z
X-MICROSOFT-CDO-ALLDAYEVENT:FALSE
SUMMARY:Regional Chamber Mixer
DESCRIPTION:Seven Local Chambers join together in collaboration and networking - reconnect with business acquaintances and make new contacts. Hosted by Graton Resort & Casino.
X-ALT-DESC;FMTTYPE=text/html:Seven Local Chambers join together in collaboration and networking - reconnect with business acquaintances and make new contacts. Hosted by Graton Resort & Casino.
LOCATION:Graton Resort & Casino 288 Golf Course Dr. West Rohernt Park\, Ca
UID:e.3189.32653
SEQUENCE:3
DTSTAMP:20260420T023231Z
URL:https://business.sebastopol.org/events/details/regional-chamber-mixer-05-13-2015-32653
END:VEVENT

END:VCALENDAR
