BEGIN:VCALENDAR
VERSION:2.0
PRODID:-//ChamberMaster//Event Calendar 2.0//EN
METHOD:PUBLISH
X-PUBLISHED-TTL:P3D
REFRESH-INTERVAL:P3D
CALSCALE:GREGORIAN
BEGIN:VEVENT
DTSTART:20150614T030000Z
DTEND:20150614T053000Z
X-MICROSOFT-CDO-ALLDAYEVENT:FALSE
SUMMARY:Rhythm Future Quartet: Gypsy Jazz
DESCRIPTION:On tour from New York and Boston\, these four young rising jazz stars perform dynamic and fiery arrangements of Gypsy jazz standards and original compositions. The quartet features bandleader /composer Jason Anick on violin\, Finnish guitarist Olli Soikelli (“…among the worthiest  current day successors to the great Django’ -Wall Street Journal)\, Vinny Raniola on guitar\, and Greg Loughman on bass. Don’t miss these  exciting virtuosos on stage at OCA! $20 General. Cabaret and Concert seating. Fine Refreshments. Wheelchair Accessible
X-ALT-DESC;FMTTYPE=text/html:On tour from New York and Boston\, these four young rising jazz stars perform dynamic and fiery arrangements of Gypsy jazz standards and original compositions. The quartet features bandleader /composer Jason Anick on violin\, Finnish guitarist Olli Soikelli (“…among the worthiest  current day successors to the great Django’ -Wall Street Journal)\, Vinny Raniola on guitar\, and Greg Loughman on bass. Don’t miss these  exciting virtuosos on stage at OCA! $20 General. Cabaret and Concert seating. Fine Refreshments. Wheelchair Accessible
LOCATION:Occidental Center for the Arts
UID:e.3189.32760
SEQUENCE:3
DTSTAMP:20260420T003220Z
URL:https://business.sebastopol.org/events/details/rhythm-future-quartet-gypsy-jazz-06-13-2015-32760
END:VEVENT

END:VCALENDAR
