BEGIN:VCALENDAR
VERSION:2.0
PRODID:-//ChamberMaster//Event Calendar 2.0//EN
METHOD:PUBLISH
X-PUBLISHED-TTL:P3D
REFRESH-INTERVAL:P3D
CALSCALE:GREGORIAN
BEGIN:VEVENT
DTSTART:20151003T230000Z
DTEND:20151004T030000Z
X-MICROSOFT-CDO-ALLDAYEVENT:FALSE
SUMMARY:River Awards Gala
DESCRIPTION:The River Awards will honor and highlight the people\, businesses and farms that are leading the Russian River to a more climate resilient future. It will also help educate our community on the actions the awardees are taking to increase our resiliency to climate impacts such as our current drought and recent floods.\n\n\nThe River Awards Gala will feature a sumptuous locally sourced organic dinner\, live music\, world-class local beer and wine\, a silent and live auction with Senator Mike McGuire and a great time with friends from across the watershed.  \n$50-60.  \nPresented by Russian Riverkeeper
X-ALT-DESC;FMTTYPE=text/html:<!--  Visual Designer HTML -->The River Awards will honor and highlight the people\, businesses and farms that are leading the Russian River to a more climate resilient future. It will also help educate our community on the actions the awardees are taking to increase our resiliency to climate impacts such as our current drought and recent floods.<BR /><BR /><BR />The River Awards Gala will feature a sumptuous locally sourced organic dinner\, live music\, world-class local beer and wine\, a silent and live auction with Senator Mike McGuire and a great time with friends from across the watershed.  <P>\n$50-60.  <P>\nPresented by Russian Riverkeeper <P></P></P></P>
LOCATION:Shone Farm\, 7450 Steve Olson Lane\, Forestville\, CA 95436
UID:e.3189.5042726
SEQUENCE:3
DTSTAMP:20260419T175800Z
URL:https://business.sebastopol.org/events/details/river-awards-gala-10-03-2015-5042726
END:VEVENT

END:VCALENDAR
