BEGIN:VCALENDAR
VERSION:2.0
PRODID:-//ChamberMaster//Event Calendar 2.0//EN
METHOD:PUBLISH
X-PUBLISHED-TTL:P3D
REFRESH-INTERVAL:P3D
CALSCALE:GREGORIAN
BEGIN:VEVENT
DTSTART:20130511T200000Z
DTEND:20130511T230000Z
X-MICROSOFT-CDO-ALLDAYEVENT:FALSE
SUMMARY:rose show
DESCRIPTION:free
X-ALT-DESC;FMTTYPE=text/html:free
LOCATION:The luther burbank art and garden center 2050 yulupa santa rosa ca
UID:e.3189.5040626
SEQUENCE:3
DTSTAMP:20260421T203140Z
URL:https://business.sebastopol.org/events/details/rose-show-05-11-2013-5040626
END:VEVENT

END:VCALENDAR
