BEGIN:VCALENDAR
VERSION:2.0
PRODID:-//ChamberMaster//Event Calendar 2.0//EN
METHOD:PUBLISH
X-PUBLISHED-TTL:P3D
REFRESH-INTERVAL:P3D
CALSCALE:GREGORIAN
BEGIN:VEVENT
DTSTART:20151004T010000Z
DTEND:20151004T040000Z
X-MICROSOFT-CDO-ALLDAYEVENT:FALSE
SUMMARY:Rotary Sebastopol Surf and Turf
DESCRIPTION:MORE INFORMATION TO FOLLOW SOON
X-ALT-DESC;FMTTYPE=text/html:MORE INFORMATION TO FOLLOW SOON
LOCATION:At O'Reilly Media
UID:e.3189.32777
SEQUENCE:3
DTSTAMP:20260419T180014Z
URL:https://business.sebastopol.org/events/details/rotary-sebastopol-surf-and-turf-10-03-2015-32777
END:VEVENT

END:VCALENDAR
