BEGIN:VCALENDAR
VERSION:2.0
PRODID:-//ChamberMaster//Event Calendar 2.0//EN
METHOD:PUBLISH
X-PUBLISHED-TTL:P3D
REFRESH-INTERVAL:P3D
CALSCALE:GREGORIAN
BEGIN:VEVENT
DTSTART:20150912T180000Z
DTEND:20150914T010000Z
X-MICROSOFT-CDO-ALLDAYEVENT:FALSE
SUMMARY:Russian River Jazz & Blues
DESCRIPTION:The 39th Annual Russian River Jazz & Blues Festival returns to Johnson’s Beach on September 12th & 13th\, 2015\nMark your calendar for a weekend of music\, dancing and more!
X-ALT-DESC;FMTTYPE=text/html:The 39th Annual Russian River Jazz & Blues Festival returns to Johnson’s Beach on September 12th & 13th\, 2015\nMark your calendar for a weekend of music\, dancing and more!
LOCATION:Johnson's Beach\, Guerneville
UID:e.3189.5042522
SEQUENCE:3
DTSTAMP:20260419T192135Z
URL:https://business.sebastopol.org/events/details/russian-river-jazz-blues-09-12-2015-5042522
END:VEVENT

END:VCALENDAR
