BEGIN:VCALENDAR
VERSION:2.0
PRODID:-//ChamberMaster//Event Calendar 2.0//EN
METHOD:PUBLISH
X-PUBLISHED-TTL:P3D
REFRESH-INTERVAL:P3D
CALSCALE:GREGORIAN
BEGIN:VEVENT
DTSTART:20151105T170000Z
DTEND:20151105T200000Z
X-MICROSOFT-CDO-ALLDAYEVENT:FALSE
SUMMARY:Russian River Trash Clean Up Event
DESCRIPTION:Help Clean River Alliance and Russian Riverkeeper clean up the Russian River and keep this trash from getting into the River and the Pacific Ocean
X-ALT-DESC;FMTTYPE=text/html:Help Clean River Alliance and Russian Riverkeeper clean up the Russian River and keep this trash from getting into the River and the Pacific Ocean
LOCATION:Russian River Clean Up Event !!!Meeting at Fire Mountain Lodge 1st. St. In Downtown Guerneville between Safeway and Johnsons Beach at 9 am till 12 noon. Gloves \,Water\, Snacks and Trash pickers will be there Help Clean River Alliance and Russian Riverkeeper clean up the Russian River and keep this trash from getting into the River and the Pacific Ocean
UID:e.3189.5042908
SEQUENCE:3
DTSTAMP:20260419T161309Z
URL:https://business.sebastopol.org/events/details/russian-river-trash-clean-up-event-11-05-2015-5042908
END:VEVENT

END:VCALENDAR
