BEGIN:VCALENDAR
VERSION:2.0
PRODID:-//ChamberMaster//Event Calendar 2.0//EN
METHOD:PUBLISH
X-PUBLISHED-TTL:P3D
REFRESH-INTERVAL:P3D
CALSCALE:GREGORIAN
BEGIN:VEVENT
DTSTART:20151105T013000Z
DTEND:20151105T043000Z
X-MICROSOFT-CDO-ALLDAYEVENT:FALSE
SUMMARY:Russian River Valley Single Vineyard Night
DESCRIPTION:Join Russian River Valley Winegrowers for an amazing tasting \nexperience of Russian River Valley Single Vineyard wines . More than 30 \nwinemakers and winegrowers will be pouring small-lot\, single vineyard \nwines.\nAn\n unmatched tasting event highlighting the single vineyard wines of the \nRussian River Valley\, including premier Pinot Noir\, Chardonnay\, \nZinfandel\, Syrah and Sauvignon Blanc.\nDozens of Russian River Valley wineries will showcase their \nlimited-production\, single vineyard wines and Spinster Sisters and \nFreestone Artisan Cheese offers delicious bites to pair with the wines.\nTHE VIP EXPERIENCE \n\nA limited number of VIP Ticket are available. Enter one hour early and \nreceive exclusive tastings of rare\, limited release and tasting room \nonly wines. VIP ticket holders receive one instant cellar raffle ticket.\n\n\n\nSILENT AUCTION AND INSTANT CELLAR RAFFLE \n\nBid on exclusive Russian River Valley experiences during the silent \nauction and purchase a ticket for the Instant Cellar raffle. One lucky \nwinner will walk away with over 3 cases of spectacular Russian River \nValley wine!
X-ALT-DESC;FMTTYPE=text/html:<!--  Visual Designer HTML --><p>Join Russian River Valley Winegrowers for an amazing tasting \nexperience of Russian River Valley Single Vineyard wines . More than 30 \nwinemakers and winegrowers will be pouring small-lot\, single vineyard \nwines.</p>\n<p>An\n unmatched tasting event highlighting the single vineyard wines of the \nRussian River Valley\, including premier Pinot Noir\, Chardonnay\, \nZinfandel\, Syrah and Sauvignon Blanc.</p>\n<p>Dozens of Russian River Valley wineries will showcase their \nlimited-production\, single vineyard wines and Spinster Sisters and \nFreestone Artisan Cheese offers delicious bites to pair with the wines.</p>\n<p><strong>THE VIP EXPERIENCE </strong><br />\nA limited number of VIP Ticket are available. Enter one hour early and \nreceive exclusive tastings of rare\, limited release and tasting room \nonly wines. VIP ticket holders receive one instant cellar raffle ticket.<br />\n<strong><br />\nSILENT AUCTION AND INSTANT CELLAR RAFFLE </strong><br />\nBid on exclusive Russian River Valley experiences during the silent \nauction and purchase a ticket for the Instant Cellar raffle. One lucky \nwinner will walk away with over 3 cases of spectacular Russian River \nValley wine!</p>
LOCATION:The Golden Gate Club at the PresidioSan Francisco\, CA
UID:e.3189.5042759
SEQUENCE:3
DTSTAMP:20260419T161253Z
URL:https://business.sebastopol.org/events/details/russian-river-valley-single-vineyard-night-11-04-2015-5042759
END:VEVENT

END:VCALENDAR
