BEGIN:VCALENDAR
VERSION:2.0
PRODID:-//ChamberMaster//Event Calendar 2.0//EN
METHOD:PUBLISH
X-PUBLISHED-TTL:P3D
REFRESH-INTERVAL:P3D
CALSCALE:GREGORIAN
BEGIN:VEVENT
DTSTART:20130505T020000Z
DTEND:20130505T033000Z
X-MICROSOFT-CDO-ALLDAYEVENT:FALSE
SUMMARY:Sara Maria Flamenco presents: UN CACHITO DE FLAMENCO
DESCRIPTION:Five fabulous multicultural artists bringing the joy and passion of live flamenco ~ Fanny Ara\, Paloma Aspe\, Jose Cortes\, David Paez\, Sara Maria
X-ALT-DESC;FMTTYPE=text/html:Five fabulous multicultural artists bringing the joy and passion of live flamenco ~ Fanny Ara\, Paloma Aspe\, Jose Cortes\, David Paez\, Sara Maria
LOCATION:Sebastopol Community Cultural Center $15 advance/$20 door Kids 12 and under and senior 65+ (1/2 price) Tickets 4 sale online at brownpapertickets or at People's Music in Seb.
UID:e.3189.5040618
SEQUENCE:3
DTSTAMP:20260421T221606Z
URL:https://business.sebastopol.org/events/details/sara-maria-flamenco-presents-un-cachito-de-flamenco-05-04-2013-5040618
END:VEVENT

END:VCALENDAR
