BEGIN:VCALENDAR
VERSION:2.0
PRODID:-//ChamberMaster//Event Calendar 2.0//EN
METHOD:PUBLISH
X-PUBLISHED-TTL:P3D
REFRESH-INTERVAL:P3D
CALSCALE:GREGORIAN
BEGIN:VEVENT
DTSTART:20130420T170000Z
DTEND:20130422T010000Z
X-MICROSOFT-CDO-ALLDAYEVENT:FALSE
SUMMARY:Sebastopol Apple Blossom Festival & Parade
DESCRIPTION:April 20 & 21\, 2013 are the dates to save!  Mark your calendars and make plans to join the Sebastopol Area Chamber of Commerce at the 67th Apple Blossom Festival and Parade.  Guaranteed this will be a weekend filled with great music\, children’s entertainment and a wide variety of local artisans.  You will also be able to get your fill of festival foods\, always something for everyone.   Wet your whistle with beer or lemonade or try some tastes of local wines.                    For nearly 100 years\, Sebastopol has celebrated their apple crops with some sort of festival.  With the Apple Blossom Festival celebrating the beginning of the growing season.  Make sure to save the weekend of April 20 & 21\, 2013 to visit Sebastopol and experience first hand the historical traditions and agricultural bounty of this beautiful little town.            Check our website for more details as they become available for 2013 or enjoy the photos from past festivals.
X-ALT-DESC;FMTTYPE=text/html:April 20 & 21\, 2013 are the dates to save!  Mark your calendars and make plans to join the Sebastopol Area Chamber of Commerce at the 67th Apple Blossom Festival and Parade.  Guaranteed this will be a weekend filled with great music\, children’s entertainment and a wide variety of local artisans.  You will also be able to get your fill of festival foods\, always something for everyone.   Wet your whistle with beer or lemonade or try some tastes of local wines.                    For nearly 100 years\, Sebastopol has celebrated their apple crops with some sort of festival.  With the Apple Blossom Festival celebrating the beginning of the growing season.  Make sure to save the weekend of April 20 & 21\, 2013 to visit Sebastopol and experience first hand the historical traditions and agricultural bounty of this beautiful little town.            Check our website for more details as they become available for 2013 or enjoy the photos from past festivals.
LOCATION:Ives Park Jewell and Willow
UID:e.3189.8808
SEQUENCE:3
DTSTAMP:20260421T221249Z
URL:https://business.sebastopol.org/events/details/sebastopol-apple-blossom-festival-parade-04-20-2013-8808
END:VEVENT

END:VCALENDAR
