BEGIN:VCALENDAR
VERSION:2.0
PRODID:-//ChamberMaster//Event Calendar 2.0//EN
METHOD:PUBLISH
X-PUBLISHED-TTL:P3D
REFRESH-INTERVAL:P3D
CALSCALE:GREGORIAN
BEGIN:VEVENT
DTSTART:20120908T183000Z
DTEND:20120909T020000Z
X-MICROSOFT-CDO-ALLDAYEVENT:FALSE
SUMMARY:Sebastopol Cajun-Zydeco Festival
DESCRIPTION:The 17th Annual September 8 2012 - Cajun Food and Zydeco Music                                      11:30 am to 7:00 pm - Gates open at 11:00      Huge shaded wooden dance floor under the redwoods in  Sebastopol's  lush Ives Park          Gator sausage\, Gumbo\, BBQ\, Ice Cream\, Watermelon\, Shave Ice\,  Beer\,  Wine\,                                  Margaritas\,   Hurricanes  & Oyster Shooters!
X-ALT-DESC;FMTTYPE=text/html:The 17th Annual September 8 2012 - Cajun Food and Zydeco Music                                      11:30 am to 7:00 pm - Gates open at 11:00      Huge shaded wooden dance floor under the redwoods in  Sebastopol's  lush Ives Park          Gator sausage\, Gumbo\, BBQ\, Ice Cream\, Watermelon\, Shave Ice\,  Beer\,  Wine\,                                  Margaritas\,   Hurricanes  & Oyster Shooters!
LOCATION:Ives Park\, Sebastopol Jewell & Willow Avenue
UID:e.3189.8765
SEQUENCE:3
DTSTAMP:20260422T091407Z
URL:https://business.sebastopol.org/events/details/sebastopol-cajun-zydeco-festival-09-08-2012-8765
END:VEVENT

END:VCALENDAR
