BEGIN:VCALENDAR
VERSION:2.0
PRODID:-//ChamberMaster//Event Calendar 2.0//EN
METHOD:PUBLISH
X-PUBLISHED-TTL:P3D
REFRESH-INTERVAL:P3D
CALSCALE:GREGORIAN
BEGIN:VEVENT
DTSTART:20121027T170000Z
DTEND:20121027T190000Z
X-MICROSOFT-CDO-ALLDAYEVENT:FALSE
SUMMARY:Sebastopol Center for the Arts
DESCRIPTION:Art at the Source 2013 Information Meeting Saturday\, October 27 - All Sonoma County artists are invited to an informational meeting for “Art at the Source” the spring open studio tour which provides a first-hand look at Western Sonoma County’s working art studios. The informational meeting is Saturday\, October 27 at 10 am at the Art Center\, 282 S. High Street\, Sebastopol (707) 829-4797. For questions contact lindag@sonic.net  The event dates for Art at the Source are June 1 & 2\, June 8 & 9\, 2013. Application deadline is Saturday\, December 1\, 2012.
X-ALT-DESC;FMTTYPE=text/html:Art at the Source 2013 Information Meeting Saturday\, October 27 - All Sonoma County artists are invited to an informational meeting for “Art at the Source” the spring open studio tour which provides a first-hand look at Western Sonoma County’s working art studios. The informational meeting is Saturday\, October 27 at 10 am at the Art Center\, 282 S. High Street\, Sebastopol (707) 829-4797. For questions contact lindag@sonic.net  The event dates for Art at the Source are June 1 & 2\, June 8 & 9\, 2013. Application deadline is Saturday\, December 1\, 2012.
LOCATION:282 S High Street\, Sebastopol
UID:e.3189.10623
SEQUENCE:3
DTSTAMP:20260422T071254Z
URL:https://business.sebastopol.org/events/details/sebastopol-center-for-the-arts-10-27-2012-10623
END:VEVENT

END:VCALENDAR
