BEGIN:VCALENDAR
VERSION:2.0
PRODID:-//ChamberMaster//Event Calendar 2.0//EN
METHOD:PUBLISH
X-PUBLISHED-TTL:P3D
REFRESH-INTERVAL:P3D
CALSCALE:GREGORIAN
BEGIN:VEVENT
DTSTART:20151115T020000Z
DTEND:20151115T070000Z
X-MICROSOFT-CDO-ALLDAYEVENT:FALSE
SUMMARY:Sebastopol Center for the Arts - Gala
DESCRIPTION:The date is already set for 2015.  Watch the web site for more details.
X-ALT-DESC;FMTTYPE=text/html:The date is already set for 2015.  Watch the web site for more details.
LOCATION:Sebastopol Center for the Arts 282 High Street Sebastopol\, CA 95472
UID:e.3189.27619
SEQUENCE:3
DTSTAMP:20260419T175028Z
URL:https://business.sebastopol.org/events/details/sebastopol-center-for-the-arts-gala-11-14-2015-27619
END:VEVENT

END:VCALENDAR
