BEGIN:VCALENDAR
VERSION:2.0
PRODID:-//ChamberMaster//Event Calendar 2.0//EN
METHOD:PUBLISH
X-PUBLISHED-TTL:P3D
REFRESH-INTERVAL:P3D
CALSCALE:GREGORIAN
BEGIN:VEVENT
DTSTART:20121005T013000Z
DTEND:20121005T033000Z
X-MICROSOFT-CDO-ALLDAYEVENT:FALSE
SUMMARY:Sebastopol City Council ''Candidates Forum''
DESCRIPTION:The Sebastopol Area Chamber of Commerce\, The League of Women Voters and Sonoma West Times and News bring you " Candidates Forum" in Sebastopol.
X-ALT-DESC;FMTTYPE=text/html:The Sebastopol Area Chamber of Commerce\, The League of Women Voters and Sonoma West Times and News bring you " Candidates Forum" in Sebastopol.
LOCATION:Sebastopol Community Cultural Center 390 Morris Street Sebastopol
UID:e.3189.10453
SEQUENCE:3
DTSTAMP:20260422T071433Z
URL:https://business.sebastopol.org/events/details/sebastopol-city-council-candidates-forum-10-04-2012-10453
END:VEVENT

END:VCALENDAR
