BEGIN:VCALENDAR
VERSION:2.0
PRODID:-//ChamberMaster//Event Calendar 2.0//EN
METHOD:PUBLISH
X-PUBLISHED-TTL:P3D
REFRESH-INTERVAL:P3D
CALSCALE:GREGORIAN
BEGIN:VEVENT
DTSTART:20121005T013000Z
DTEND:20121005T033000Z
X-MICROSOFT-CDO-ALLDAYEVENT:FALSE
SUMMARY:Sebastopol City Council ''Candidates Night''
DESCRIPTION:The Sebastopol Area Chamber of Commerce\, The League of Women Voters and Sonoma West Times and News bring you " Candidates Night" in Sebastopol.
X-ALT-DESC;FMTTYPE=text/html:The Sebastopol Area Chamber of Commerce\, The League of Women Voters and Sonoma West Times and News bring you " Candidates Night" in Sebastopol.
LOCATION:Sebastopol Community Cultural Center 390 Morris Street Sebastopol
UID:e.3189.8707
SEQUENCE:3
DTSTAMP:20260422T071436Z
URL:https://business.sebastopol.org/events/details/sebastopol-city-council-candidates-night-10-04-2012-8707
END:VEVENT

END:VCALENDAR
