BEGIN:VCALENDAR
VERSION:2.0
PRODID:-//ChamberMaster//Event Calendar 2.0//EN
METHOD:PUBLISH
X-PUBLISHED-TTL:P3D
REFRESH-INTERVAL:P3D
CALSCALE:GREGORIAN
BEGIN:VEVENT
DTSTART:20130208T020000Z
DTEND:20130208T040000Z
X-MICROSOFT-CDO-ALLDAYEVENT:FALSE
SUMMARY:Sebastopol Community Awards
DESCRIPTION:The Sebastopol Area Chamber of Commerce Board presents the 2013 recipients for the annual Community Awards.  A contingent of Chamber board members surprised this year’s Citizens of the Year Linda Galletta and Robert Brent at the recent opening reception of their latest gallery show.  And surprised they were!  They will both be honored for their tremendous work of the new relocation and renovation of the Sebastopol Center for the Arts to  the  Veterans Building at 282 High St.  Also the awards will be celebrated  at the new location on Thursday\, February 7th   from 6 p.m. - 8 p.m.  Other awards recipients to be honored that evening are: Business of the Year K-Tech Automotive\; Volunteers of the Year\, Tess and Gene Ostopowiez\; Outstanding Contributions to the Community\, Randy Coffman\; Outstanding Public Service\, Police Chief Jeff Weaver\; Environmental Consciousness\, Laguna de Santa Rosa Foundation\; Service to Youth\, Meg Mizutani\; Youth Service to Others\, Monica Cropsey and Zac Parenti\; Service to Seniors\, David Aldridge\; Humanitarian of the Year\, Roger Collins\; Beautification of a Visible Site\, Eight Cuisine\; Business Spark Plug\, Sebastopol Entrepreneurs \nProject\; Contribution to the Arts\, Bill Yoes and Hall of Fame\, Edie Avery.  In addition to the awards there will be light refreshments during the reception from 6-7\,  entertainment\, a silent auction and of course the gallery show\, “Reflections”. Admission is free although donations at the door to the event and the  Chamber’s youth scholarship fund are appreciated. Please also RSVP to 823-3032 so we can anticipate attendance.  Again please join us for the annual Community Awards February 7th from 6-8pm at the Center for the Arts\, 282 High St. \n.
X-ALT-DESC;FMTTYPE=text/html:The Sebastopol Area Chamber of Commerce Board presents the 2013 recipients for the annual Community Awards.  A contingent of Chamber board members surprised this year’s Citizens of the Year Linda Galletta and Robert Brent at the recent opening reception of their latest gallery show.  And surprised they were!  They will both be honored for their tremendous work of the new relocation and renovation of the Sebastopol Center for the Arts to  the  Veterans Building at 282 High St.  Also the awards will be celebrated  at the new location on Thursday\, February 7th   from 6 p.m. - 8 p.m.  Other awards recipients to be honored that evening are: Business of the Year K-Tech Automotive\; Volunteers of the Year\, Tess and Gene Ostopowiez\; Outstanding Contributions to the Community\, Randy Coffman\; Outstanding Public Service\, Police Chief Jeff Weaver\; Environmental Consciousness\, Laguna de Santa Rosa Foundation\; Service to Youth\, Meg Mizutani\; Youth Service to Others\, Monica Cropsey and Zac Parenti\; Service to Seniors\, David Aldridge\; Humanitarian of the Year\, Roger Collins\; Beautification of a Visible Site\, Eight Cuisine\; Business Spark Plug\, Sebastopol Entrepreneurs \nProject\; Contribution to the Arts\, Bill Yoes and Hall of Fame\, Edie Avery.  In addition to the awards there will be light refreshments during the reception from 6-7\,  entertainment\, a silent auction and of course the gallery show\, “Reflections”. Admission is free although donations at the door to the event and the  Chamber’s youth scholarship fund are appreciated. Please also RSVP to 823-3032 so we can anticipate attendance.  Again please join us for the annual Community Awards February 7th from 6-8pm at the Center for the Arts\, 282 High St. \n.
LOCATION:Sebastopol Center for the Arts 282 High Street Sebastopol
UID:e.3189.13503
SEQUENCE:3
DTSTAMP:20260422T023437Z
URL:https://business.sebastopol.org/events/details/sebastopol-community-awards-02-07-2013-13503
END:VEVENT

END:VCALENDAR
