BEGIN:VCALENDAR
VERSION:2.0
PRODID:-//ChamberMaster//Event Calendar 2.0//EN
METHOD:PUBLISH
X-PUBLISHED-TTL:P3D
REFRESH-INTERVAL:P3D
CALSCALE:GREGORIAN
BEGIN:VEVENT
DTSTART:20150213T020000Z
DTEND:20150213T040000Z
X-MICROSOFT-CDO-ALLDAYEVENT:FALSE
SUMMARY:Sebastopol Community Awards
DESCRIPTION:An evening of networking and celebration of individuals and businesses in our community. Celebrate with wine\, light snacks and a silent auction!
X-ALT-DESC;FMTTYPE=text/html:An evening of networking and celebration of individuals and businesses in our community. Celebrate with wine\, light snacks and a silent auction!
LOCATION:Sebastopol Center for the Arts 282 S. High Street Sebastopol\, CA 95472
UID:e.3189.31613
SEQUENCE:3
DTSTAMP:20260420T065908Z
URL:https://business.sebastopol.org/events/details/sebastopol-community-awards-02-12-2015-31613
END:VEVENT

END:VCALENDAR
