BEGIN:VCALENDAR
VERSION:2.0
PRODID:-//ChamberMaster//Event Calendar 2.0//EN
METHOD:PUBLISH
X-PUBLISHED-TTL:P3D
REFRESH-INTERVAL:P3D
CALSCALE:GREGORIAN
BEGIN:VEVENT
DTSTART:20150322T220000Z
DTEND:20150323T010000Z
X-MICROSOFT-CDO-ALLDAYEVENT:FALSE
SUMMARY:Sebastopol Community Band
DESCRIPTION:Sebastopol Community Band was founded in 2000 under the direction of Frank Jilka\, and is now under the Direction of Nathan Riebli. It began as a collection of musically inclined families who joined together to form backyard marching band style groups for Fourth of July. In the following years more people joined\, and now the ensemble has grown to a full wind ensemble of brass\, percussion\, and woodwinds\, and has band members from all over the county. The group performs classical\, jazz\, marches\, and big band music.\n \n The afternoon program features classical\, nineteen twenties' dances\, Cajun folk songs\, and contemporary repertoire. Also\, a March band concert is not complete without\, well\, a March!\nTickets $10 at the door.
X-ALT-DESC;FMTTYPE=text/html:Sebastopol Community Band was founded in 2000 under the direction of Frank Jilka\, and is now under the Direction of Nathan Riebli. It began as a collection of musically inclined families who joined together to form backyard marching band style groups for Fourth of July. In the following years more people joined\, and now the ensemble has grown to a full wind ensemble of brass\, percussion\, and woodwinds\, and has band members from all over the county. The group performs classical\, jazz\, marches\, and big band music.\n \n The afternoon program features classical\, nineteen twenties' dances\, Cajun folk songs\, and contemporary repertoire. Also\, a March band concert is not complete without\, well\, a March!\nTickets $10 at the door.
LOCATION:Sebastopol Center for the Arts 282 South High Street Sebastopol\, CA 95472
UID:e.3189.32103
SEQUENCE:3
DTSTAMP:20260420T065805Z
URL:https://business.sebastopol.org/events/details/sebastopol-community-band-03-22-2015-32103
END:VEVENT

END:VCALENDAR
