BEGIN:VCALENDAR
VERSION:2.0
PRODID:-//ChamberMaster//Event Calendar 2.0//EN
METHOD:PUBLISH
X-PUBLISHED-TTL:P3D
REFRESH-INTERVAL:P3D
CALSCALE:GREGORIAN
BEGIN:VEVENT
DTSTART:20150116T023000Z
DTEND:20150116T040000Z
X-MICROSOFT-CDO-ALLDAYEVENT:FALSE
SUMMARY:Sebastopol Entrepreneurs Project
DESCRIPTION:Social Media How will it help my business?  Where do I get started?\nPresenter is Diana Concoff Morgan\, CEO Whole Heart Marketing
X-ALT-DESC;FMTTYPE=text/html:Social Media How will it help my business?  Where do I get started?\nPresenter is Diana Concoff Morgan\, CEO Whole Heart Marketing
LOCATION:O'Reilly Media 1005 Gravenstein Hwy Sebastopol\, Ca 95472
UID:e.3189.5042062
SEQUENCE:3
DTSTAMP:20260420T084427Z
URL:https://business.sebastopol.org/events/details/sebastopol-entrepreneurs-project-01-15-2015-5042062
END:VEVENT

END:VCALENDAR
