BEGIN:VCALENDAR
VERSION:2.0
PRODID:-//ChamberMaster//Event Calendar 2.0//EN
METHOD:PUBLISH
X-PUBLISHED-TTL:P3D
REFRESH-INTERVAL:P3D
CALSCALE:GREGORIAN
BEGIN:VEVENT
DTSTART:20121208T180000Z
DTEND:20121209T010000Z
X-MICROSOFT-CDO-ALLDAYEVENT:FALSE
SUMMARY:Sebastopol Holiday Home Tour
DESCRIPTION:Join the 2nd Annual Sebastopol Holiday Home Tour that will take you from city to country locales and from Victorian to contemporary architecture. Each of our six historic homes and school will display holiday spirit in its own unique style\, showcasing family history through collections of holiday artifacts and family traditions. Proceeds go to Jacob's Fund\, a scholarship fund at Pleasant Hill Christian School in Sebastopol.   TICKETS: $25 adult\, $10 kids After Nov. 26 adults are $30. You can buy tickets online or via phone: http://sebastopolholidayhometour.com  (707) 829-1729 sebastopolholidayhometour@gmail.com
X-ALT-DESC;FMTTYPE=text/html:Join the 2nd Annual Sebastopol Holiday Home Tour that will take you from city to country locales and from Victorian to contemporary architecture. Each of our six historic homes and school will display holiday spirit in its own unique style\, showcasing family history through collections of holiday artifacts and family traditions. Proceeds go to Jacob's Fund\, a scholarship fund at Pleasant Hill Christian School in Sebastopol.   TICKETS: $25 adult\, $10 kids After Nov. 26 adults are $30. You can buy tickets online or via phone: http://sebastopolholidayhometour.com  (707) 829-1729 sebastopolholidayhometour@gmail.com
LOCATION:Pleasant Hill Christian School 1782 Pleasant Hill Rd. Sebastopol\, CA 95472.
UID:e.3189.11245
SEQUENCE:3
DTSTAMP:20260422T054058Z
URL:https://business.sebastopol.org/events/details/sebastopol-holiday-home-tour-12-08-2012-11245
END:VEVENT

END:VCALENDAR
