BEGIN:VCALENDAR
VERSION:2.0
PRODID:-//ChamberMaster//Event Calendar 2.0//EN
METHOD:PUBLISH
X-PUBLISHED-TTL:P3D
REFRESH-INTERVAL:P3D
CALSCALE:GREGORIAN
BEGIN:VEVENT
DTSTART:20151212T010000Z
DTEND:20151213T010000Z
X-MICROSOFT-CDO-ALLDAYEVENT:FALSE
SUMMARY:Sebastopol Holiday Home Tour & Artisan Boutique
DESCRIPTION:Spend a delightful winter's day  touring decorated  Sebastopol homes & our historic school. Each location displays holiday spirit in its own unique way\, showcasing collections and family traditions. Proceeds go to Jacob's Fund\, a scholarship fund at Pleasant Hill Christian School
X-ALT-DESC;FMTTYPE=text/html:<!--  Visual Designer HTML --><p> Spend a delightful winter's day &nbsp\;touring decorated &nbsp\;Sebastopol homes&nbsp\;&amp\; our historic school. Each location&nbsp\;<em><span style="font-style: italic\;">displays holiday spirit in its own unique way\, showcasing&nbsp\;</span></em><em><span style="font-style: italic\;">collections&nbsp\;</span></em>and family traditions.&nbsp\;</p><p><em style="line-height: 1.5"><strong><span style="font-weight: bold\;">Proceeds go to Jacob's Fund\, a scholarship fund&nbsp\;</span></strong></span></em><em style="color: #336666\; line-height: 48px\; text-align: center"><strong><span style="font-weight: bold\;">at Pleasant Hill Christian School&nbsp\; </span></strong></span></em></p>
LOCATION:Pleasant Hill Christian School and surrounding Sebastopol area. 1782 Pleasant Hill Rd.\, Sebastopol\, CA 95472
UID:e.3189.5042778
SEQUENCE:3
DTSTAMP:20260419T143357Z
URL:https://business.sebastopol.org/events/details/sebastopol-holiday-home-tour-artisan-boutique-12-11-2015-5042778
END:VEVENT

END:VCALENDAR
