BEGIN:VCALENDAR
VERSION:2.0
PRODID:-//ChamberMaster//Event Calendar 2.0//EN
METHOD:PUBLISH
X-PUBLISHED-TTL:P3D
REFRESH-INTERVAL:P3D
CALSCALE:GREGORIAN
BEGIN:VEVENT
DTSTART:20151204T010000Z
DTEND:20151204T040000Z
X-MICROSOFT-CDO-ALLDAYEVENT:FALSE
SUMMARY:Sebastopol Holiday Tree Lighting 2015
DESCRIPTION:JOIN US FOR SEBASTOPOL'S HOLIDAY TREE LIGHTING CELEBRATION!Thursday\, December 3 at Sebastopol Town Plaza 5:00p.m.-8:00p.m.Come and share in the traditional lighting of the tree and Santa's arrival on Sebastopol's Fire Truck!Join your host\, the Sebastopol Chamber of Commerce\, for a night full of festive holiday fun\, in partnership with the Sebastopol Downtown Association.In addition to the traditional lighting of the tree\, there will be several children's crafts and activities\, complimentary hot beverages & popcorn\, and a variety of entertainment\, including the Bija Children's Choir\, Sebastopol Ballet's Nutcracker dancers\, and of course\, Mr. Music\, Jim Corbett will be on hand for a rousing sing-along to welcome Santa!New this year to the Town Plaza decorations will be seven trees donated by local tree farms and decorated by local restaurants. Remember to dress warm as the event will go on rain\, snow or not. Come help us kick off the holiday season at this year's tree lighting\, a bright\, family-friendly event for all!For more information\, contact the Chamber at: (707) 823-3032 or visit: www.sebastopol.org.
X-ALT-DESC;FMTTYPE=text/html:<!--  Visual Designer HTML --><h5 style="text-align: center\; color: #3c3d3e\; line-height: 17.6px\; box-sizing: border-box"><span style="font-size: 16px\; box-sizing: border-box"><strong style="font-weight: bold\; box-sizing: border-box">JOIN US FOR SEBASTOPOL'S HOLIDAY TREE LIGHTING CELEBRATION!</span></strong></span></h5><p style="text-align: center\; color: #3c3d3e\; box-sizing: border-box"><span style="font-size: 16px\; box-sizing: border-box"><strong style="font-weight: bold\; box-sizing: border-box">Thursday\, December 3 at Sebastopol Town Plaza&nbsp\;</span></strong></span></p><p style="text-align: center\; color: #3c3d3e\; box-sizing: border-box"><span style="font-size: 20px\; box-sizing: border-box"><strong style="line-height: 1.53em\; font-size: 13px\; font-weight: bold\; box-sizing: border-box">5:00p.m.-8:00p.m.</span></strong></span></p><p style="text-align: center\; color: #3c3d3e\; box-sizing: border-box"><span style="font-size: 14px\; box-sizing: border-box"><strong style="font-weight: bold\; box-sizing: border-box">Come and share in the traditional lighting of the tree and Santa's arrival on Sebastopol's Fire Truck!</span></strong></span></p><p style="text-align: center\; color: #3c3d3e\; box-sizing: border-box"><span style="font-size: 14px\; box-sizing: border-box"><strong style="font-weight: bold\; box-sizing: border-box">Join your host\, the Sebastopol Chamber of Commerce\, for a night full of festive holiday fun\, in partnership with the Sebastopol Downtown Association.</span></strong></span></p><p style="text-align: center\; color: #3c3d3e\; box-sizing: border-box"><span style="font-size: 14px\; box-sizing: border-box"><strong style="font-weight: bold\; box-sizing: border-box">In addition to the traditional lighting of the tree\, there will be several c<span style="line-height: 1.53em\; box-sizing: border-box">hildren's crafts and activities\, complimentary hot beverages &amp\; popcorn\, and a variety of entertainment\, including the Bija Children's Choir\, Sebastopol Ballet's <em style="box-sizing: border-box">Nutcracker</span></em>&nbsp\;dancers\, and of course\, Mr. Music\, Jim Corbett will be on hand for a rousing sing-along to welcome Santa!</span></span></strong></span></p><p style="text-align: center\; color: #3c3d3e\; box-sizing: border-box"><span style="font-size: 14px\; box-sizing: border-box"><strong style="font-weight: bold\; box-sizing: border-box"><span style="line-height: 1.53em\; box-sizing: border-box">New this year to the Town Plaza decorations will be seven trees donated by local tree farms and decorated by local restaurants.&nbsp\;</span></span></strong></span></p><p style="text-align: center\; color: #3c3d3e\; box-sizing: border-box"><span style="font-size: 14px\; box-sizing: border-box"><strong style="font-weight: bold\; box-sizing: border-box">Remember to dress warm as the event will go on rain\, snow or not.&nbsp\;<span style="line-height: 1.53em\; box-sizing: border-box">Come help us kick off the holiday season at this year's tree lighting\, a bright\, family-friendly event for all!</span></span></strong></span></p><p style="text-align: center\; color: #3c3d3e\; box-sizing: border-box"><span style="font-size: 14px\; box-sizing: border-box"><strong style="font-weight: bold\; box-sizing: border-box">For more information\, contact the Chamber at: (707) 823-3032 or visit:&nbsp\;<a style="color: #20736d\; font-weight: 600\; box-sizing: border-box" href="http://www.sebastopol.org/">www.sebastopol.org</a></span></strong>.&nbsp\;</span></p>
LOCATION:Sebastopol Downtown Plaza (corner of McKinley St. & Petaluma Ave.)
UID:e.3189.35917
SEQUENCE:3
DTSTAMP:20260419T160206Z
URL:https://business.sebastopol.org/events/details/sebastopol-holiday-tree-lighting-2015-12-03-2015-35917
END:VEVENT

END:VCALENDAR
