BEGIN:VCALENDAR
VERSION:2.0
PRODID:-//ChamberMaster//Event Calendar 2.0//EN
METHOD:PUBLISH
X-PUBLISHED-TTL:P3D
REFRESH-INTERVAL:P3D
CALSCALE:GREGORIAN
BEGIN:VEVENT
DTSTART:20121207T010000Z
DTEND:20121207T040000Z
X-MICROSOFT-CDO-ALLDAYEVENT:FALSE
SUMMARY:Sebastopol's Annual Tree Lighting Celebration
DESCRIPTION:The Sebastopol Area Chamber of Commerce and Sutter Care at Home Hospice Presents:  Sebastopol’s Holiday  Celebration in the Plaza Thursday\, December 6th    5pm - 8pm  Enjoy Complimentary Hot Beverages & Treats ~ Children’s Crafts ~ Live Entertainment ~ Santa’s Arrival & Many Other Surprises   Tree Lighting 6:30pm ~ Santas' Arrival 7pm  (Times are Approximate)                      ~ Rain or Shine - Dress Accordingly ~ For more information call the Chamber  823-3032 or visit www.sebastopol.org              Thank You to all of our Co Sponsors!                     Apple Valley Post-Acute Rehab                            Ask Realty              Chris Nelson\, Wine Country Group                 Community First Credit Union                  Fircrest Care & Rehabilitation                     Gravenstein Lions Club                       Landmark Properties                         Peace in Medicine                Pleasant Hill Christian School                          Sebastopol Inn                           Sonoma Bank                            Whole Foods
X-ALT-DESC;FMTTYPE=text/html:The Sebastopol Area Chamber of Commerce and Sutter Care at Home Hospice Presents:  Sebastopol’s Holiday  Celebration in the Plaza Thursday\, December 6th    5pm - 8pm  Enjoy Complimentary Hot Beverages & Treats ~ Children’s Crafts ~ Live Entertainment ~ Santa’s Arrival & Many Other Surprises   Tree Lighting 6:30pm ~ Santas' Arrival 7pm  (Times are Approximate)                      ~ Rain or Shine - Dress Accordingly ~ For more information call the Chamber  823-3032 or visit www.sebastopol.org              Thank You to all of our Co Sponsors!                     Apple Valley Post-Acute Rehab                            Ask Realty              Chris Nelson\, Wine Country Group                 Community First Credit Union                  Fircrest Care & Rehabilitation                     Gravenstein Lions Club                       Landmark Properties                         Peace in Medicine                Pleasant Hill Christian School                          Sebastopol Inn                           Sonoma Bank                            Whole Foods
LOCATION:Downtown Plaza 6901 McKinley Street
UID:e.3189.8701
SEQUENCE:3
DTSTAMP:20260422T040459Z
URL:https://business.sebastopol.org/events/details/sebastopol-s-annual-tree-lighting-celebration-12-06-2012-8701
END:VEVENT

END:VCALENDAR
