BEGIN:VCALENDAR
VERSION:2.0
PRODID:-//ChamberMaster//Event Calendar 2.0//EN
METHOD:PUBLISH
X-PUBLISHED-TTL:P3D
REFRESH-INTERVAL:P3D
CALSCALE:GREGORIAN
BEGIN:VEVENT
DTSTART:20141205T010000Z
DTEND:20141205T040000Z
X-MICROSOFT-CDO-ALLDAYEVENT:FALSE
SUMMARY:Sebastopol's Holiday Celebration in the Plaza
DESCRIPTION:Come join in the fun of the Hoiliday Tree Lighting  Enjoy Complimentary hot Beverages & Treats! Live entertainment and Santa!!
X-ALT-DESC;FMTTYPE=text/html:Come join in the fun of the Hoiliday Tree Lighting  Enjoy Complimentary hot Beverages & Treats! Live entertainment and Santa!!
LOCATION:Sebastopol
UID:e.3189.27357
SEQUENCE:3
DTSTAMP:20260420T101316Z
URL:https://business.sebastopol.org/events/details/sebastopol-s-holiday-celebration-in-the-plaza-12-04-2014-27357
END:VEVENT

END:VCALENDAR
