BEGIN:VCALENDAR
VERSION:2.0
PRODID:-//ChamberMaster//Event Calendar 2.0//EN
METHOD:PUBLISH
X-PUBLISHED-TTL:P3D
REFRESH-INTERVAL:P3D
CALSCALE:GREGORIAN
BEGIN:VEVENT
DTSTART:20141123T020000Z
DTEND:20141123T043000Z
X-MICROSOFT-CDO-ALLDAYEVENT:FALSE
SUMMARY:Sebastopol Sister City Friendship Dinner
DESCRIPTION:Sebastopol World Friends (SWF) will hold a Sister City Friendship Dinner and Celebration.\n\nAll you can eat buffet-style dinner will include food from Ukraine and Japan\, where Sebastopol has its two sister cities.  Suggested donation amounts are $15 for adults and $5 for children. \n\nA silent auction featuring many local goods and services will help raise money for the organization’s scholarship fund\, which is dedicated to making the programs affordable for participating Sebastopol families who need assistance. \n\nThere will be performances by Japanese Taiko drummers and Ukrainian singers and musicians.\n\nSWF facilitates youth and adult travel and cultural exchanges with our sister cities: Takeo\, Japan and Chyhyryn\, Ukraine.  SWF is a 501(c)(3) non-profit organization.
X-ALT-DESC;FMTTYPE=text/html:Sebastopol World Friends (SWF) will hold a Sister City Friendship Dinner and Celebration.\n\nAll you can eat buffet-style dinner will include food from Ukraine and Japan\, where Sebastopol has its two sister cities.  Suggested donation amounts are $15 for adults and $5 for children. \n\nA silent auction featuring many local goods and services will help raise money for the organization’s scholarship fund\, which is dedicated to making the programs affordable for participating Sebastopol families who need assistance. \n\nThere will be performances by Japanese Taiko drummers and Ukrainian singers and musicians.\n\nSWF facilitates youth and adult travel and cultural exchanges with our sister cities: Takeo\, Japan and Chyhyryn\, Ukraine.  SWF is a 501(c)(3) non-profit organization.
LOCATION:Enmanji Temple Memorial Hall 1200 Gravenstein Hwy South\, Sebastopol\, CA 95472
UID:e.3189.5041676
SEQUENCE:3
DTSTAMP:20260420T131855Z
URL:https://business.sebastopol.org/events/details/sebastopol-sister-city-friendship-dinner-11-22-2014-5041676
END:VEVENT

END:VCALENDAR
