BEGIN:VCALENDAR
VERSION:2.0
PRODID:-//ChamberMaster//Event Calendar 2.0//EN
METHOD:PUBLISH
X-PUBLISHED-TTL:P3D
REFRESH-INTERVAL:P3D
CALSCALE:GREGORIAN
BEGIN:VEVENT
DTSTART:20150829T160000Z
DTEND:20150829T160000Z
X-MICROSOFT-CDO-ALLDAYEVENT:FALSE
SUMMARY:Sebastopol Walks - A Walk in the Parks
DESCRIPTION:Leader: Geoffrey Skinner
X-ALT-DESC;FMTTYPE=text/html:Leader: Geoffrey Skinner
LOCATION:The Plaza
UID:e.3189.5042653
SEQUENCE:3
DTSTAMP:20260419T210448Z
URL:https://business.sebastopol.org/events/details/sebastopol-walks-a-walk-in-the-parks-08-29-2015-5042653
END:VEVENT

END:VCALENDAR
