BEGIN:VCALENDAR
VERSION:2.0
PRODID:-//ChamberMaster//Event Calendar 2.0//EN
METHOD:PUBLISH
X-PUBLISHED-TTL:P3D
REFRESH-INTERVAL:P3D
CALSCALE:GREGORIAN
BEGIN:VEVENT
DTSTART:20150926T160000Z
DTEND:20150926T160000Z
X-MICROSOFT-CDO-ALLDAYEVENT:FALSE
SUMMARY:Sebastopol Walks - Alley Ways
DESCRIPTION:Leader: Richard Nichols
X-ALT-DESC;FMTTYPE=text/html:Leader: Richard Nichols
LOCATION:The Plaza
UID:e.3189.5042656
SEQUENCE:3
DTSTAMP:20260419T192448Z
URL:https://business.sebastopol.org/events/details/sebastopol-walks-alley-ways-09-26-2015-5042656
END:VEVENT

END:VCALENDAR
