BEGIN:VCALENDAR
VERSION:2.0
PRODID:-//ChamberMaster//Event Calendar 2.0//EN
METHOD:PUBLISH
X-PUBLISHED-TTL:P3D
REFRESH-INTERVAL:P3D
CALSCALE:GREGORIAN
BEGIN:VEVENT
DTSTART:20150801T173000Z
DTEND:20150801T173000Z
X-MICROSOFT-CDO-ALLDAYEVENT:FALSE
SUMMARY:Sebastopol Walks - An Art Walk
DESCRIPTION:Join us to explore part of our vibrant artistic community. We'll check out some outdoor art\, The Sebastopol Center for the Arts\, The Tibetan Studio\, Downtown Gallery and visit a few private studios to meet the artists.Please note the departure time of 10:30AM\, not the usual 9AM. We'll be done by 1:30. Wear comfortable shoes\, bring water and a snack or lunch to eat on the move.Leader: Richard NicholsFor future Sebastopol Walks please feel free to download this poster! http://www.sebastopolwalks.org/wp/wp-content/uploads/2015/06/SEB-WALKS-June-27.pdf
X-ALT-DESC;FMTTYPE=text/html:<!--  Visual Designer HTML --><p>Join us to explore part of our vibrant artistic community. We&#39\;ll check out some outdoor art\, The Sebastopol Center for the Arts\, The&nbsp\;Tibetan Studio\, Downtown Gallery and visit a few private studios to meet the artists.</p><p>Please note the departure time of 10:30AM\, not the usual 9AM. We&#39\;ll be done by 1:30. Wear comfortable shoes\, bring water and a snack or lunch to eat on the move.</p><p>Leader: Richard Nichols</p><p>For future Sebastopol Walks please feel free to download this poster!&nbsp\;</p><p><a href="http://www.sebastopolwalks.org/wp/wp-content/uploads/2015/06/SEB-WALKS-June-27.pdf">http://www.sebastopolwalks.org/wp/wp-content/uploads/2015/06/SEB-WALKS-June-27.pdf</a>\n</p>
LOCATION:Meet at the Plaza at 10:30AM
UID:e.3189.5042650
SEQUENCE:3
DTSTAMP:20260419T210406Z
URL:https://business.sebastopol.org/events/details/sebastopol-walks-an-art-walk-08-01-2015-5042650
END:VEVENT

END:VCALENDAR
