BEGIN:VCALENDAR
VERSION:2.0
PRODID:-//ChamberMaster//Event Calendar 2.0//EN
METHOD:PUBLISH
X-PUBLISHED-TTL:P3D
REFRESH-INTERVAL:P3D
CALSCALE:GREGORIAN
BEGIN:VEVENT
DTSTART:20130217T013000Z
DTEND:20130217T040000Z
X-MICROSOFT-CDO-ALLDAYEVENT:FALSE
SUMMARY:Sebastopol World Friends Sweetheart Dinner
DESCRIPTION:Sebastopol World Friends\nSweetheart Dinner\nA Fundraiser for Youth Scholarship\n"World Peace\, One Friend At A Time"\n\nAll you can eat salad\, garlic bread\, pasta with meat sauce or creamy pesto sauce\, and dessert.  Local wine available at additional cost.  Silent auction\, music and more!\n\nProceeds go to Youth Scholarship Fund for Sebastopol's exchange program with its sister cities in Japan and Ukraine.\n\n$15 for adults\, $8 for kids 6-12\, Free for kids 5 and under
X-ALT-DESC;FMTTYPE=text/html:Sebastopol World Friends\nSweetheart Dinner\nA Fundraiser for Youth Scholarship\n"World Peace\, One Friend At A Time"\n\nAll you can eat salad\, garlic bread\, pasta with meat sauce or creamy pesto sauce\, and dessert.  Local wine available at additional cost.  Silent auction\, music and more!\n\nProceeds go to Youth Scholarship Fund for Sebastopol's exchange program with its sister cities in Japan and Ukraine.\n\n$15 for adults\, $8 for kids 6-12\, Free for kids 5 and under
LOCATION:Sebastopol Community Church 1000 Gravenstein Hwy N. Sebastopol\, CA 95472
UID:e.3189.5040370
SEQUENCE:3
DTSTAMP:20260422T010550Z
URL:https://business.sebastopol.org/events/details/sebastopol-world-friends-sweetheart-dinner-02-16-2013-5040370
END:VEVENT

END:VCALENDAR
