BEGIN:VCALENDAR
VERSION:2.0
PRODID:-//ChamberMaster//Event Calendar 2.0//EN
METHOD:PUBLISH
X-PUBLISHED-TTL:P3D
REFRESH-INTERVAL:P3D
CALSCALE:GREGORIAN
BEGIN:VEVENT
DTSTART:20130112T180000Z
DTEND:20130112T200000Z
X-MICROSOFT-CDO-ALLDAYEVENT:FALSE
SUMMARY:Secrets to a Successful Remodel: Kitchen & Bath Design
DESCRIPTION:Considering a remodel or new building project? Not sure how to begin?\nHave you had unpleasant past remodeling experiences?\nInterested in the best practices of kitchen and bath design?\n\nJoin us Saturday\, January 12th for a free workshop to get your bearings.\n\nJames Blair of DreamSpace Design and Leff Construction's Dave Leff will unravel some simple steps to assess the merits of embarking upon either a major makeover or some minor changes to your home. With so many choices at hand\, they will share a brief guide to \nbest practices of kitchen and bath design: what makes all the difference in the way your space will function for you\, what to look for in terms of quality\, options and benefits\, how to ensure your space is functional\, comfortable\, and beautiful.\n\nOur workshops are always free\, always fun\, and of course we will have delicious snacks. Because space is limited\, advance registration is required. Join us! We hope to see you there.
X-ALT-DESC;FMTTYPE=text/html:Considering a remodel or new building project? Not sure how to begin?\nHave you had unpleasant past remodeling experiences?\nInterested in the best practices of kitchen and bath design?\n\nJoin us Saturday\, January 12th for a free workshop to get your bearings.\n\nJames Blair of DreamSpace Design and Leff Construction's Dave Leff will unravel some simple steps to assess the merits of embarking upon either a major makeover or some minor changes to your home. With so many choices at hand\, they will share a brief guide to \nbest practices of kitchen and bath design: what makes all the difference in the way your space will function for you\, what to look for in terms of quality\, options and benefits\, how to ensure your space is functional\, comfortable\, and beautiful.\n\nOur workshops are always free\, always fun\, and of course we will have delicious snacks. Because space is limited\, advance registration is required. Join us! We hope to see you there.
LOCATION:Leff Design Center\, 2661 Gravenstein hwy South\, Suite B Sebastopol\, CA 95472 next to the Antique Society
UID:e.3189.5040289
SEQUENCE:3
DTSTAMP:20260422T023405Z
URL:https://business.sebastopol.org/events/details/secrets-to-a-successful-remodel-kitchen-bath-design-01-12-2013-5040289
END:VEVENT

END:VCALENDAR
