BEGIN:VCALENDAR
VERSION:2.0
PRODID:-//ChamberMaster//Event Calendar 2.0//EN
METHOD:PUBLISH
X-PUBLISHED-TTL:P3D
REFRESH-INTERVAL:P3D
CALSCALE:GREGORIAN
BEGIN:VEVENT
DTSTART:20150424T010000Z
DTEND:20150424T033000Z
X-MICROSOFT-CDO-ALLDAYEVENT:FALSE
SUMMARY:Shakespeare Jubilee: Twelfth Night
DESCRIPTION:4 plays in 4 places! Join us in celebrating the Bards birthday month. B.A.R.D.S (Bay Area Readers Dramatic Society) will be reading 4 of Shakespeare's finest in various locations in Sonoma County. Our readings are largely unrehearsed...just a bunch of Shakespeare loving actors having a great time\, enjoying the poetry and prose from our favorite writer!\n\nIf you can't make this one\, here are all the performances:\n\nA Midsummer Night's Dream\nApril 16 @ 6pm\nA'Roma Roasters\n95 5th Street\, Santa Rosa\n\nTwelfth Night\nApril 23 @ 6pm\nCoffee Catz\n6761 Sebastopol Ave\, Sebastopol\n\nThe Comedy of Errors\nApril 24 @ 6:30\nSebastopol Gallery\n150 N Main St\, Sebastopol\n\nAll's Well That Ends Well\nApril 28 @ 6pm\nAqus Cafe\n189 H Street\, Petaluma
X-ALT-DESC;FMTTYPE=text/html:4 plays in 4 places! Join us in celebrating the Bards birthday month. B.A.R.D.S (Bay Area Readers Dramatic Society) will be reading 4 of Shakespeare's finest in various locations in Sonoma County. Our readings are largely unrehearsed...just a bunch of Shakespeare loving actors having a great time\, enjoying the poetry and prose from our favorite writer!\n\nIf you can't make this one\, here are all the performances:\n\nA Midsummer Night's Dream\nApril 16 @ 6pm\nA'Roma Roasters\n95 5th Street\, Santa Rosa\n\nTwelfth Night\nApril 23 @ 6pm\nCoffee Catz\n6761 Sebastopol Ave\, Sebastopol\n\nThe Comedy of Errors\nApril 24 @ 6:30\nSebastopol Gallery\n150 N Main St\, Sebastopol\n\nAll's Well That Ends Well\nApril 28 @ 6pm\nAqus Cafe\n189 H Street\, Petaluma
LOCATION:Coffee Catz\, 6761 Sebastopol Ave\, Sebastopol\, CA 95472
UID:e.3189.5042304
SEQUENCE:3
DTSTAMP:20260420T053527Z
URL:https://business.sebastopol.org/events/details/shakespeare-jubilee-twelfth-night-04-23-2015-5042304
END:VEVENT

END:VCALENDAR
