BEGIN:VCALENDAR
VERSION:2.0
PRODID:-//ChamberMaster//Event Calendar 2.0//EN
METHOD:PUBLISH
X-PUBLISHED-TTL:P3D
REFRESH-INTERVAL:P3D
CALSCALE:GREGORIAN
BEGIN:VEVENT
DTSTART:20151108T020000Z
DTEND:20151108T043000Z
X-MICROSOFT-CDO-ALLDAYEVENT:FALSE
SUMMARY:Sister City Friendship Dinner & Celebration
DESCRIPTION:Join us at this special fundraising dinner celebrating Sebastopol's sister city relationships with Takeo Japan and Chyhyryn\, Ukraine.  Delicious food and entertainment from Ukraine and Japan.Silent auction benefits the SWF's youth scholarship fund.Open to the public.Suggested Donations: $15 for adults and $5 for children and seniors.
X-ALT-DESC;FMTTYPE=text/html:<!--  Visual Designer HTML --><p><span style="font-size: 9pt">Join us at this special fundraising dinner celebrating Sebastopol&#39\;s sister city relationships with Takeo Japan and Chyhyryn\, Ukraine.&nbsp\; Delicious food and entertainment from Ukraine and Japan.</span></p><p><span style="font-size: 9pt">Silent auction benefits the SWF&#39\;s youth scholarship fund.</span></p><p><span style="font-size: 9pt">Open to the public.</span></p><p><span style="font-size: 9pt">Suggested Donations: $15 for adults and $5 for children and seniors.</span></p>
LOCATION:Enmanji Memorial Hall1200 Gravenstein Hwy South\, Sebastopol\, CA 95472
UID:e.3189.5042864
SEQUENCE:3
DTSTAMP:20260419T180134Z
URL:https://business.sebastopol.org/events/details/sister-city-friendship-dinner-celebration-11-07-2015-5042864
END:VEVENT

END:VCALENDAR
