BEGIN:VCALENDAR
VERSION:2.0
PRODID:-//ChamberMaster//Event Calendar 2.0//EN
METHOD:PUBLISH
X-PUBLISHED-TTL:P3D
REFRESH-INTERVAL:P3D
CALSCALE:GREGORIAN
BEGIN:VEVENT
DTSTART:20150424T223000Z
DTEND:20150424T233000Z
X-MICROSOFT-CDO-ALLDAYEVENT:FALSE
SUMMARY:Smart Art Market
DESCRIPTION:Celebrate Money Smart Week with us.  Learn how to count\, budget and spend "funny money" while creating an art project.  Children will be given "funny money" to rent art supplies for their projects.  All supplies provided.  For Ages 5 - 12.
X-ALT-DESC;FMTTYPE=text/html:Celebrate Money Smart Week with us.  Learn how to count\, budget and spend "funny money" while creating an art project.  Children will be given "funny money" to rent art supplies for their projects.  All supplies provided.  For Ages 5 - 12.
LOCATION:Sebastopol Regional Library 7140 Bodega Avenue\, Sebastopol
UID:e.3189.5042313
SEQUENCE:3
DTSTAMP:20260420T035850Z
URL:https://business.sebastopol.org/events/details/smart-art-market-04-24-2015-5042313
END:VEVENT

END:VCALENDAR
