BEGIN:VCALENDAR
VERSION:2.0
PRODID:-//ChamberMaster//Event Calendar 2.0//EN
METHOD:PUBLISH
X-PUBLISHED-TTL:P3D
REFRESH-INTERVAL:P3D
CALSCALE:GREGORIAN
BEGIN:VEVENT
DTSTART:20150426T030000Z
DTEND:20150426T053000Z
X-MICROSOFT-CDO-ALLDAYEVENT:FALSE
SUMMARY:Sol Flamenco Dance
DESCRIPTION:Sonoma-county based flamenco artists have trained extensively in Spain and are widely praised for their passion and precision. Featuring dancers Joelle Goncalves\, Hilit Maniv with flamenco guitarist Mark Taylor and guest singer ‘El Moreno’. $20. Cabaret/concert seating. Wheelchair accessible. Fine refreshments for sale
X-ALT-DESC;FMTTYPE=text/html:Sonoma-county based flamenco artists have trained extensively in Spain and are widely praised for their passion and precision. Featuring dancers Joelle Goncalves\, Hilit Maniv with flamenco guitarist Mark Taylor and guest singer ‘El Moreno’. $20. Cabaret/concert seating. Wheelchair accessible. Fine refreshments for sale
LOCATION:Occidental Center for the Arts
UID:e.3189.32344
SEQUENCE:3
DTSTAMP:20260420T035753Z
URL:https://business.sebastopol.org/events/details/sol-flamenco-dance-04-25-2015-32344
END:VEVENT

END:VCALENDAR
