BEGIN:VCALENDAR
VERSION:2.0
PRODID:-//ChamberMaster//Event Calendar 2.0//EN
METHOD:PUBLISH
X-PUBLISHED-TTL:P3D
REFRESH-INTERVAL:P3D
CALSCALE:GREGORIAN
BEGIN:VEVENT
DTSTART:20130310T200000Z
DTEND:20130311T030000Z
X-MICROSOFT-CDO-ALLDAYEVENT:FALSE
SUMMARY:Sonoma County Bluegrass & Folk Festival
DESCRIPTION:13th annual festival offers a full day of music with some of the best in Americana\, Bluegrass\, Old Time & Folk.  Five bands\, workshops\, jamming and more! Great food and beverages on site or within walking distance in downtown Sebastopol. Children 11 and under free with paying adult. Advance tickets available at Peoples' Music in Sebastopol & Last Record Store\, Santa Rosa. Co-sponsored by the Sonoma County Folk Society & California Bluegrass Association. Please see website for more information
X-ALT-DESC;FMTTYPE=text/html:13th annual festival offers a full day of music with some of the best in Americana\, Bluegrass\, Old Time & Folk.  Five bands\, workshops\, jamming and more! Great food and beverages on site or within walking distance in downtown Sebastopol. Children 11 and under free with paying adult. Advance tickets available at Peoples' Music in Sebastopol & Last Record Store\, Santa Rosa. Co-sponsored by the Sonoma County Folk Society & California Bluegrass Association. Please see website for more information
LOCATION:Sebastopol Community Cultural Center 390 Morris Street Sebastopol\, CA 95472
UID:e.3189.5040396
SEQUENCE:3
DTSTAMP:20260421T233016Z
URL:https://business.sebastopol.org/events/details/sonoma-county-bluegrass-folk-festival-03-10-2013-5040396
END:VEVENT

END:VCALENDAR
