BEGIN:VCALENDAR
VERSION:2.0
PRODID:-//ChamberMaster//Event Calendar 2.0//EN
METHOD:PUBLISH
X-PUBLISHED-TTL:P3D
REFRESH-INTERVAL:P3D
CALSCALE:GREGORIAN
BEGIN:VEVENT
DTSTART:20121113T160000Z
DTEND:20121113T230000Z
X-MICROSOFT-CDO-ALLDAYEVENT:FALSE
SUMMARY:Sonoma County's Strategies for Sustainability
DESCRIPTION:You’re invited!  \n\nEarly bird pricing $45     \n$55 as of September 5\n\nReduce greenhouse gases in Sonoma County by inspiring innovation\, economic vitality\,\nand collaborative action between community\, business and government.\n\nTo register go to www.srcity.org/S3
X-ALT-DESC;FMTTYPE=text/html:You’re invited!  \n\nEarly bird pricing $45     \n$55 as of September 5\n\nReduce greenhouse gases in Sonoma County by inspiring innovation\, economic vitality\,\nand collaborative action between community\, business and government.\n\nTo register go to www.srcity.org/S3
LOCATION:City of Santa Rosa 35 Stony Point Road Santa Rosa CA
UID:e.3189.8827
SEQUENCE:3
DTSTAMP:20260422T054103Z
URL:https://business.sebastopol.org/events/details/sonoma-county-s-strategies-for-sustainability-11-13-2012-8827
END:VEVENT

END:VCALENDAR
