BEGIN:VCALENDAR
VERSION:2.0
PRODID:-//ChamberMaster//Event Calendar 2.0//EN
METHOD:PUBLISH
X-PUBLISHED-TTL:P3D
REFRESH-INTERVAL:P3D
CALSCALE:GREGORIAN
BEGIN:VEVENT
DTSTART:20150919T230000Z
DTEND:20150920T030000Z
X-MICROSOFT-CDO-ALLDAYEVENT:FALSE
SUMMARY:SONOMA COUNTY TAIKO'S 20TH ANNIVERSARY PARTY
DESCRIPTION:Come celebrate 20 years of Sonoma\nCounty Taiko!12.35pt\;background:#F9F9F9" Join us and many of our friends and\nsupporters for an evening full of fun:=        \nA variety of\nperformances throughout the night (Share\nyour talents\, taiko or other. Contact Alexa at alexa.riner@gmail.com to reserve\na five-minute time slot.)=        \nBBQ and\nnon-alcoholic beverages provided by SCT=        \nBuffet-style\npotluck served throughout the event (Please\nbring a side\, salad\, or dessert plus serving utensils to feed at least six.)=        \nBeer and wine\nfor sale (Remember to bring your\nidentification)=        \nTaiko themed\ngames=        \nRaffle prizesThe party will run from 4:00 - 8:00 pm. Come and go as you please\, or spend the whole evening with us. \n\n\n\nSo that we may know the number of attendees to plan for\, please r.s.v.p with\nthe number of guests by September 1. Carpooling is encouraged as parking space\nis limited.\n\n\n\nIf you are unable to attend but would like to make a donation\, please visit our\nGoFundMe page:\n\ngofundme.com/SCT20
X-ALT-DESC;FMTTYPE=text/html:<!--  Visual Designer HTML --><b style="line-height: 12.35pt"><span style="font-size: 9pt">Come celebrate 20 years of Sonoma\nCounty Taiko!</span></b>12.35pt\;background:#F9F9F9&quot\;&gt\;<span style="font-size: 9pt">Join us and many of our friends and\nsupporters for an evening full of fun:</span></p><p style="&lt\;br/&gt\;margin-left:0in\;text-indent:-.25in\;line-height:12.35pt\;&lt\;br/&gt\;tab-stops:list&amp\;amp\;background:#F9F9F9"><span style="font-size: 10pt"><span style='font-family:webdings'>=</span>&nbsp\;&nbsp\;&nbsp\;&nbsp\;&nbsp\;&nbsp\;&nbsp\;&nbsp\;\n</span><b><span style="font-size: 9pt">A variety of\nperformances throughout the night&nbsp\;</span></b><span style="font-size: 9pt">(Share\nyour talents\, taiko or other. Contact Alexa at alexa.riner@gmail.com to reserve\na five-minute time slot.)</span></p><p style="&lt\;br/&gt\;margin-left:0in\;text-indent:-.25in\;line-height:12.35pt\;&lt\;br/&gt\;tab-stops:list&amp\;amp\;background:#F9F9F9"><span style="font-size: 10pt"><span style='font-family:webdings'>=</span>&nbsp\;&nbsp\;&nbsp\;&nbsp\;&nbsp\;&nbsp\;&nbsp\;&nbsp\;\n</span><b><span style="font-size: 9pt">BBQ and\nnon-alcoholic beverages provided by SCT</span></b></p><p style="&lt\;br/&gt\;margin-left:0in\;text-indent:-.25in\;line-height:12.35pt\;&lt\;br/&gt\;tab-stops:list&amp\;amp\;background:#F9F9F9"><span style="font-size: 10pt"><span style='font-family:webdings'>=</span>&nbsp\;&nbsp\;&nbsp\;&nbsp\;&nbsp\;&nbsp\;&nbsp\;&nbsp\;\n</span><b><span style="font-size: 9pt">Buffet-style\npotluck served throughout the event&nbsp\;</span></b><span style="font-size: 9pt">(Please\nbring a side\, salad\, or dessert plus serving utensils to feed at least six.)</span></p><p style="&lt\;br/&gt\;margin-left:0in\;text-indent:-.25in\;line-height:12.35pt\;&lt\;br/&gt\;tab-stops:list&amp\;amp\;background:#F9F9F9"><span style="font-size: 10pt"><span style='font-family:webdings'>=</span>&nbsp\;&nbsp\;&nbsp\;&nbsp\;&nbsp\;&nbsp\;&nbsp\;&nbsp\;\n</span><b><span style="font-size: 9pt">Beer and wine\nfor sale</span></b><span style="font-size: 9pt">&nbsp\;(Remember to bring your\nidentification)</span></p><p style="&lt\;br/&gt\;margin-left:0in\;text-indent:-.25in\;line-height:12.35pt\;&lt\;br/&gt\;tab-stops:list&amp\;amp\;background:#F9F9F9"><span style="font-size: 10pt"><span style='font-family:webdings'>=</span>&nbsp\;&nbsp\;&nbsp\;&nbsp\;&nbsp\;&nbsp\;&nbsp\;&nbsp\;\n</span><b><span style="font-size: 9pt">Taiko themed\ngames</span></b></p><p style="&lt\;br/&gt\;margin-left:0in\;text-indent:-.25in\;line-height:12.35pt\;&lt\;br/&gt\;tab-stops:list&amp\;amp\;background:#F9F9F9"><span style="font-size: 10pt"><span style='font-family:webdings'>=</span>&nbsp\;&nbsp\;&nbsp\;&nbsp\;&nbsp\;&nbsp\;&nbsp\;&nbsp\;\n</span><b><span style="font-size: 9pt">Raffle prizes</span></b></p><span style="font-size:9.0pt\;line-height:115%\;font-family:&amp\;quot">The party will run from 4:00 - 8:00 pm. Come and go as you please\, or spend the whole evening with us.&nbsp\;<br />\n<br />\nSo that we may know the number of attendees to plan for\, please r.s.v.p with\nthe number of guests by September 1. Carpooling is encouraged as parking space\nis limited.<br />\n<br />\nIf you are unable to attend but would like to make a donation\, please visit our\nGoFundMe page:<br />\ngofundme.com/SCT20</span>
LOCATION:= Enmanji Buddhist Temple1200 Gravenstein Highway SouthSebastopol\, CA 95472
UID:e.3189.5042680
SEQUENCE:3
DTSTAMP:20260419T192448Z
URL:https://business.sebastopol.org/events/details/sonoma-county-taiko-s-20th-anniversary-party-09-19-2015-5042680
END:VEVENT

END:VCALENDAR
