BEGIN:VCALENDAR
VERSION:2.0
PRODID:-//ChamberMaster//Event Calendar 2.0//EN
METHOD:PUBLISH
X-PUBLISHED-TTL:P3D
REFRESH-INTERVAL:P3D
CALSCALE:GREGORIAN
BEGIN:VEVENT
DTSTART:20160117T013000Z
DTEND:20160117T060000Z
X-MICROSOFT-CDO-ALLDAYEVENT:FALSE
SUMMARY:Sonoma West Medical Center Celebration
DESCRIPTION:You’re Invited! \n\nThe Hospital is open\, so let’s celebrate! \nWe want to celebrate the opening of Sonoma West Medical Center and show our gratitude to everyone who made this miracle a reality. \n\nWhen: January 16\, from 5:30 – 10:00\n\n5:30-6:30 pm ~ Food\, Libations & Live Music- Featuring the Ruminators\n\n6:30-7:30/8:00pm ~ Multi-media program & Raffle\n\n8:00-10:00 ~ Dance Party\, Featuring Susan Comstock & The Smilin’ Iguanas\n\nWhere: The Sebastopol Community and Cultural Center- 390 Morris Street\, Sebastopol\n\nAll we need is YOU to complete the evening.\n\nSee you there!
X-ALT-DESC;FMTTYPE=text/html:<!--  Visual Designer HTML --><span style="color: #141823\; font-size: 14px\; line-height: 18.76px\; background-color: #ffffff">You’re Invited!&nbsp\;</span><br style="color: #141823\; font-size: 14px\; line-height: 18.76px\; background-color: #ffffff" /><br style="color: #141823\; font-size: 14px\; line-height: 18.76px\; background-color: #ffffff" /><span style="color: #141823\; font-size: 14px\; line-height: 18.76px\; background-color: #ffffff">The Hospital is open\, so let’s celebrate!&nbsp\;</span><br style="color: #141823\; font-size: 14px\; line-height: 18.76px\; background-color: #ffffff" /><span style="color: #141823\; font-size: 14px\; line-height: 18.76px\; background-color: #ffffff">We want to celebrate the opening of Sonoma West Medical Center and show our gratitude to everyone who made this miracle a reality. </span><br style="color: #141823\; font-size: 14px\; line-height: 18.76px\; background-color: #ffffff" /><br style="color: #141823\; font-size: 14px\; line-height: 18.76px\; background-color: #ffffff" /><span style="color: #141823\; font-size: 14px\; line-height: 18.76px\; background-color: #ffffff">When: January 16\, from 5:30 – 10:00</span><br style="color: #141823\; font-size: 14px\; line-height: 18.76px\; background-color: #ffffff" /><br style="color: #141823\; font-size: 14px\; line-height: 18.76px\; background-color: #ffffff" /><span style="color: #141823\; font-size: 14px\; line-height: 18.76px\; background-color: #ffffff">5:30-6:30 pm ~ Food\, Libations &amp\; Live Music- Featuring the Ruminators</span><br style="color: #141823\; font-size: 14px\; line-height: 18.76px\; background-color: #ffffff" /><br style="color: #141823\; font-size: 14px\; line-height: 18.76px\; background-color: #ffffff" /><span style="color: #141823\; font-size: 14px\; line-height: 18.76px\; background-color: #ffffff">6:30-7:30/8:00pm ~ Multi-media program &amp\; Raffle</span><br style="color: #141823\; font-size: 14px\; line-height: 18.76px\; background-color: #ffffff" /><br style="color: #141823\; font-size: 14px\; line-height: 18.76px\; background-color: #ffffff" /><span style="color: #141823\; font-size: 14px\; line-height: 18.76px\; background-color: #ffffff">8:00-10:00 ~ Dance Party\, Featuring Susan Comstock &amp\; The Smilin’ Iguanas</span><span style=" color: #141823\; font-size: 14px\; line-height: 18.76px\; background-color: #ffffff"><br /><br />Where: The Sebastopol Community and Cultural Center- 390 Morris Street\, Sebastopol<br /><br />All we need is YOU to complete the evening.<br /><br />See you there!</span>
LOCATION:The Sebastopol Community and Cultural Center- 390 Morris Street\, Sebastopol
UID:e.3189.5042978
SEQUENCE:3
DTSTAMP:20260419T125258Z
URL:https://business.sebastopol.org/events/details/sonoma-west-medical-center-celebration-01-16-2016-5042978
END:VEVENT

END:VCALENDAR
