BEGIN:VCALENDAR
VERSION:2.0
PRODID:-//ChamberMaster//Event Calendar 2.0//EN
METHOD:PUBLISH
X-PUBLISHED-TTL:P3D
REFRESH-INTERVAL:P3D
CALSCALE:GREGORIAN
BEGIN:VEVENT
DTSTART:20130512T200000Z
DTEND:20130512T230000Z
X-MICROSOFT-CDO-ALLDAYEVENT:FALSE
SUMMARY:Soundcheck Sunday with New Skye
DESCRIPTION:Join Dutton-Goldfield Winery to enjoy an afternoon of an eclectic blend of country rock\, Americana\, and jazz with New Skye Band while soaking up some sun and sipping some award-winning wines.  Enjoy a tasting\, a bottle of wine\, and even bring a picnic while listening to the band on our courtyard. Patio tables are available for our winery patrons on a first come\, first reserve basis.  To learn more about New Skye Band\, visit their webpage: http://newskye.com.  For more details about Soundcheck Sundays\, contact our tasting room 707.827.3600
X-ALT-DESC;FMTTYPE=text/html:Join Dutton-Goldfield Winery to enjoy an afternoon of an eclectic blend of country rock\, Americana\, and jazz with New Skye Band while soaking up some sun and sipping some award-winning wines.  Enjoy a tasting\, a bottle of wine\, and even bring a picnic while listening to the band on our courtyard. Patio tables are available for our winery patrons on a first come\, first reserve basis.  To learn more about New Skye Band\, visit their webpage: http://newskye.com.  For more details about Soundcheck Sundays\, contact our tasting room 707.827.3600
LOCATION:Dutton-Goldfield Winery\, 3100 Gravenstein Hwy. North\, Sebastopol\, CA. 95472
UID:e.3189.5040655
SEQUENCE:3
DTSTAMP:20260421T203320Z
URL:https://business.sebastopol.org/events/details/soundcheck-sunday-with-new-skye-05-12-2013-5040655
END:VEVENT

END:VCALENDAR
