BEGIN:VCALENDAR
VERSION:2.0
PRODID:-//ChamberMaster//Event Calendar 2.0//EN
METHOD:PUBLISH
X-PUBLISHED-TTL:P3D
REFRESH-INTERVAL:P3D
CALSCALE:GREGORIAN
BEGIN:VEVENT
DTSTART:20150209T000000Z
DTEND:20150209T020000Z
X-MICROSOFT-CDO-ALLDAYEVENT:FALSE
SUMMARY:Spark & Whisper
DESCRIPTION:Modern folk singer/songwriter/multi-instrumentalist duo of Anita Sandwina and Velvy Appleton  in concert are joined by bassist Paul Eastburn for original indie folk sound based on pitch-perfect harmonies and dynamic acoustic grooves with a hint of electric sass.  $15 General\; $12 Seniors/Students. Children free. Fine Refreshments for sale. Wheelchair accessible
X-ALT-DESC;FMTTYPE=text/html:Modern folk singer/songwriter/multi-instrumentalist duo of Anita Sandwina and Velvy Appleton  in concert are joined by bassist Paul Eastburn for original indie folk sound based on pitch-perfect harmonies and dynamic acoustic grooves with a hint of electric sass.  $15 General\; $12 Seniors/Students. Children free. Fine Refreshments for sale. Wheelchair accessible
LOCATION:Occidental Center for the Arts Bohemian Hwy.@ Graton Rd. Occidental
UID:e.3189.31577
SEQUENCE:3
DTSTAMP:20260420T065606Z
URL:https://business.sebastopol.org/events/details/spark-whisper-02-08-2015-31577
END:VEVENT

END:VCALENDAR
