BEGIN:VCALENDAR
VERSION:2.0
PRODID:-//ChamberMaster//Event Calendar 2.0//EN
METHOD:PUBLISH
X-PUBLISHED-TTL:P3D
REFRESH-INTERVAL:P3D
CALSCALE:GREGORIAN
BEGIN:VEVENT
DTSTART:20151023T070000Z
DTEND:20151122T080000Z
X-MICROSOFT-CDO-ALLDAYEVENT:FALSE
SUMMARY:Spoon River Anthology
DESCRIPTION:"Spoon River Anthology" by Edgar Lee Masters at Curtain Call Theatre \nin Monte Rio.  \n\nThe dead speak to the Living in this haunting\, ironic\, and sometimes humorous look at small town America in the late 1800s. \nPerfect for your Halloween and Fall Season. This play will be performed at The Russian River Hall\, every weekend starting October 23 at 8 pm\, including Sunday matinees at 3 pm.  The play ends with a Gala fundraiser starting at 7pm and includes a delectable dinner buffet\, wine and champagne. \n  \nDirected by Michael Tabib\, Reservations and Details at 707-524-8739. www.russianriverhall.com
X-ALT-DESC;FMTTYPE=text/html:"Spoon River Anthology" by Edgar Lee Masters at Curtain Call Theatre \nin Monte Rio.  \n\nThe dead speak to the Living in this haunting\, ironic\, and sometimes humorous look at small town America in the late 1800s. \nPerfect for your Halloween and Fall Season. This play will be performed at The Russian River Hall\, every weekend starting October 23 at 8 pm\, including Sunday matinees at 3 pm.  The play ends with a Gala fundraiser starting at 7pm and includes a delectable dinner buffet\, wine and champagne. \n  \nDirected by Michael Tabib\, Reservations and Details at 707-524-8739. www.russianriverhall.com
LOCATION:Russian River Hall 20347 Hwy 116Monte Rio\, CA 95462
UID:e.3189.5042876
SEQUENCE:3
DTSTAMP:20260419T161034Z
URL:https://business.sebastopol.org/events/details/spoon-river-anthology-10-23-2015-5042876
END:VEVENT

END:VCALENDAR
