BEGIN:VCALENDAR
VERSION:2.0
PRODID:-//ChamberMaster//Event Calendar 2.0//EN
METHOD:PUBLISH
X-PUBLISHED-TTL:P3D
REFRESH-INTERVAL:P3D
CALSCALE:GREGORIAN
BEGIN:VEVENT
DTSTART:20150516T170000Z
DTEND:20150516T210000Z
X-MICROSOFT-CDO-ALLDAYEVENT:FALSE
SUMMARY:Spring Book Sale
DESCRIPTION:Book sale featuring wonderful books\, movies\, and gifts for you to own\, collect\, read\, give\, and enjoy.  All funds raised at the sale are used to benefit the Sebastopol Regional Library.
X-ALT-DESC;FMTTYPE=text/html:Book sale featuring wonderful books\, movies\, and gifts for you to own\, collect\, read\, give\, and enjoy.  All funds raised at the sale are used to benefit the Sebastopol Regional Library.
LOCATION:Sebastopol Regional Library 7140 Bodega Avenue\, Sebastopol
UID:e.3189.5042412
SEQUENCE:3
DTSTAMP:20260420T040744Z
URL:https://business.sebastopol.org/events/details/spring-book-sale-05-16-2015-5042412
END:VEVENT

END:VCALENDAR
