BEGIN:VCALENDAR
VERSION:2.0
PRODID:-//ChamberMaster//Event Calendar 2.0//EN
METHOD:PUBLISH
X-PUBLISHED-TTL:P3D
REFRESH-INTERVAL:P3D
CALSCALE:GREGORIAN
BEGIN:VEVENT
DTSTART:20150214T030000Z
DTEND:20150214T060000Z
X-MICROSOFT-CDO-ALLDAYEVENT:FALSE
SUMMARY:St Valentine's Eve - Dance of Love
DESCRIPTION:Be our Valentine! Come join us for an evening of LOVE! \n\nEnjoy champagne\, roses and chocolate while dancing the night away to your favorite love songs. \n\nLive music provided by The Fabulous Luv Rustlers\, and The Love Choir. This is a benefit for Friends of Sebastopol Library
X-ALT-DESC;FMTTYPE=text/html:Be our Valentine! Come join us for an evening of LOVE! \n\nEnjoy champagne\, roses and chocolate while dancing the night away to your favorite love songs. \n\nLive music provided by The Fabulous Luv Rustlers\, and The Love Choir. This is a benefit for Friends of Sebastopol Library
LOCATION:Sebastopol Community Cultural Center
UID:e.3189.5042166
SEQUENCE:3
DTSTAMP:20260420T071247Z
URL:https://business.sebastopol.org/events/details/st-valentine-s-eve-dance-of-love-02-13-2015-5042166
END:VEVENT

END:VCALENDAR
