BEGIN:VCALENDAR
VERSION:2.0
PRODID:-//ChamberMaster//Event Calendar 2.0//EN
METHOD:PUBLISH
X-PUBLISHED-TTL:P3D
REFRESH-INTERVAL:P3D
CALSCALE:GREGORIAN
BEGIN:VEVENT
DTSTART:20150314T020000Z
DTEND:20150314T050000Z
X-MICROSOFT-CDO-ALLDAYEVENT:FALSE
SUMMARY:Steve Gillette & Cindy Mangsen in Concert
DESCRIPTION:On tour from Vermont\, this famed husband and wife folk duo (Darcy Farrow\, Bed of Roses)  will delight you with their compelling interpretations of traditional and contemporary folk songs\, rich harmonies\, accomplished guitar\, banjo\,and concertina accompaniment\, and a good dose of humor. Opening act: Pocket Canyon Ramblers.!  $15/$12 seniors/students . Fine refreshments for sale. Wheelchair accessible.
X-ALT-DESC;FMTTYPE=text/html:On tour from Vermont\, this famed husband and wife folk duo (Darcy Farrow\, Bed of Roses)  will delight you with their compelling interpretations of traditional and contemporary folk songs\, rich harmonies\, accomplished guitar\, banjo\,and concertina accompaniment\, and a good dose of humor. Opening act: Pocket Canyon Ramblers.!  $15/$12 seniors/students . Fine refreshments for sale. Wheelchair accessible.
LOCATION:Occidental Center for the Arts Bohemian Hwy.@ Graton Rd.\, Occidental
UID:e.3189.32156
SEQUENCE:3
DTSTAMP:20260420T055634Z
URL:https://business.sebastopol.org/events/details/steve-gillette-cindy-mangsen-in-concert-03-13-2015-32156
END:VEVENT

END:VCALENDAR
