BEGIN:VCALENDAR
VERSION:2.0
PRODID:-//ChamberMaster//Event Calendar 2.0//EN
METHOD:PUBLISH
X-PUBLISHED-TTL:P3D
REFRESH-INTERVAL:P3D
CALSCALE:GREGORIAN
BEGIN:VEVENT
DTSTART:20160118T033000Z
DTEND:20160118T063000Z
X-MICROSOFT-CDO-ALLDAYEVENT:FALSE
SUMMARY:Steve Seskin\, Craig Carothers\, Don Henry
DESCRIPTION:A stellar night of America’s BEST contemporary singer - - songwriters. This concert features Grammy- -nominated Steve Seskin\, Craig Carothers\, Grammy award - - winner Don Henry. Steve\, Craig and Don - - three friends and masterful songwriters - - have been making the rounds in the Bay Area for the past five years\, to the delight of both long - - time fans and new recruits. The "songwriters in the round" format of this concert\, perfected at The Bluebird Cafe in Nashville\, fits these three perfectly. Every show is different - - you just never know where the flow of the evening will go.
X-ALT-DESC;FMTTYPE=text/html:<!--  Visual Designer HTML --><p>A stellar night of America’s BEST contemporary singer -&#173\;- songwriters. This concert features Grammy-&#173\;-nominated Steve Seskin\, Craig Carothers\, Grammy award -&#173\;- winner Don Henry. Steve\, Craig and Don -&#173\;- three friends and masterful songwriters -&#173\;- have been making the rounds in the Bay Area for the past five years\, to the delight of both long -&#173\;- time fans and new recruits. The &quot\;songwriters in the round&quot\; format of this concert\, perfected at The Bluebird Cafe in Nashville\, fits these three perfectly. Every show is different -&#173\;- you just never know where the flow of the evening will go.</p>
LOCATION:Sebastopol Community Cultural Center\, 390 Morris Street\, Sebastopol CA 95472
UID:e.3189.5042975
SEQUENCE:3
DTSTAMP:20260419T125257Z
URL:https://business.sebastopol.org/events/details/steve-seskin-craig-carothers-don-henry-01-17-2016-5042975
END:VEVENT

END:VCALENDAR
