BEGIN:VCALENDAR
VERSION:2.0
PRODID:-//ChamberMaster//Event Calendar 2.0//EN
METHOD:PUBLISH
X-PUBLISHED-TTL:P3D
REFRESH-INTERVAL:P3D
CALSCALE:GREGORIAN
BEGIN:VEVENT
DTSTART:20150512T183000Z
DTEND:20150512T183000Z
X-MICROSOFT-CDO-ALLDAYEVENT:FALSE
SUMMARY:Storytime: Wee Read for Ages 0 - 2
DESCRIPTION:Stories\, songs\, dancing\, fingerplays\, and more.  For ages 0 - 24 months and caregivers.
X-ALT-DESC;FMTTYPE=text/html:Stories\, songs\, dancing\, fingerplays\, and more.  For ages 0 - 24 months and caregivers.
LOCATION:Sebastopol Regional Library 7140 Bodega Avenue\, Sebastopol
UID:e.3189.5042387
SEQUENCE:3
DTSTAMP:20260420T022632Z
URL:https://business.sebastopol.org/events/details/storytime-wee-read-for-ages-0-2-05-12-2015-5042387
END:VEVENT

END:VCALENDAR
