BEGIN:VCALENDAR
VERSION:2.0
PRODID:-//ChamberMaster//Event Calendar 2.0//EN
METHOD:PUBLISH
X-PUBLISHED-TTL:P3D
REFRESH-INTERVAL:P3D
CALSCALE:GREGORIAN
BEGIN:VEVENT
DTSTART:20150512T173000Z
DTEND:20150512T173000Z
X-MICROSOFT-CDO-ALLDAYEVENT:FALSE
SUMMARY:Storytime: Wiggle Time for Ages 2 - 5
DESCRIPTION:Join us for stories\, songs\, dancing and more.  For ages 2 - 5 and caregivers.
X-ALT-DESC;FMTTYPE=text/html:Join us for stories\, songs\, dancing and more.  For ages 2 - 5 and caregivers.
LOCATION:Sebastopol Regional Library
UID:e.3189.5042375
SEQUENCE:3
DTSTAMP:20260420T025428Z
URL:https://business.sebastopol.org/events/details/storytime-wiggle-time-for-ages-2-5-05-12-2015-5042375
END:VEVENT

END:VCALENDAR
