BEGIN:VCALENDAR
VERSION:2.0
PRODID:-//ChamberMaster//Event Calendar 2.0//EN
METHOD:PUBLISH
X-PUBLISHED-TTL:P3D
REFRESH-INTERVAL:P3D
CALSCALE:GREGORIAN
BEGIN:VEVENT
DTSTART:20150708T003000Z
DTEND:20150708T023000Z
X-MICROSOFT-CDO-ALLDAYEVENT:FALSE
SUMMARY:Strategic Thinking - Conquering the Traditional HR Paradigm
DESCRIPTION:Human Resources is undergoing a seismic transformation that is bifurcating the field into 2 different\, albeit complimentary\, sub-functions - resulting in an HR paradigm: transactional vs. strategic. Where do you fall on this delicate fault line? Are you where you want to be? Get a framework for understanding this latest paradigm and discover the skills required to be successful in this new environment. You'll also assess your current HR function and gain some tools for making the shift.\n\nAbout the Presenter\n\nVictor Assad is an energetic\, innovative and broadly experienced global human resources leader who works with key leaders\, and human resources departments on talent management\, leadership development\, accelerating change\, organization development\, team effectiveness\, mergers and acquisitions\, flexible workplace and other strategic human resources issues. With over 25 years of experience\, Victor has led human resources in fast growth\, high-technology\, global businesses for Honeywell and Medtronic\, including the medical device\, aerospace\, software\, specialty semi-conductors and electronics industries.
X-ALT-DESC;FMTTYPE=text/html:Human Resources is undergoing a seismic transformation that is bifurcating the field into 2 different\, albeit complimentary\, sub-functions - resulting in an HR paradigm: transactional vs. strategic. Where do you fall on this delicate fault line? Are you where you want to be? Get a framework for understanding this latest paradigm and discover the skills required to be successful in this new environment. You'll also assess your current HR function and gain some tools for making the shift.\n\nAbout the Presenter\n\nVictor Assad is an energetic\, innovative and broadly experienced global human resources leader who works with key leaders\, and human resources departments on talent management\, leadership development\, accelerating change\, organization development\, team effectiveness\, mergers and acquisitions\, flexible workplace and other strategic human resources issues. With over 25 years of experience\, Victor has led human resources in fast growth\, high-technology\, global businesses for Honeywell and Medtronic\, including the medical device\, aerospace\, software\, specialty semi-conductors and electronics industries.
LOCATION:Redwood Credit Union\, 3033 Cleveland Avenue\, Santa Rosa\, CA 95403
UID:e.3189.5042519
SEQUENCE:3
DTSTAMP:20260420T003520Z
URL:https://business.sebastopol.org/events/details/strategic-thinking-conquering-the-traditional-hr-paradigm-07-07-2015-5042519
END:VEVENT

END:VCALENDAR
